BEGIN:VCALENDAR
VERSION:2.0
PRODID:-//淡路市立しづかホール - ECPv5.8.0//NONSGML v1.0//EN
CALSCALE:GREGORIAN
METHOD:PUBLISH
X-WR-CALNAME:淡路市立しづかホール
X-ORIGINAL-URL:https://shizukahall.com
X-WR-CALDESC:淡路市立しづかホール のイベント
BEGIN:VTIMEZONE
TZID:Asia/Tokyo
BEGIN:STANDARD
TZOFFSETFROM:+0900
TZOFFSETTO:+0900
TZNAME:JST
DTSTART:20250101T000000
END:STANDARD
END:VTIMEZONE
BEGIN:VEVENT
DTSTART;TZID=Asia/Tokyo:20250727T083000
DTEND;TZID=Asia/Tokyo:20250727T180000
DTSTAMP:20260423T011624
CREATED:20250724T072243Z
LAST-MODIFIED:20250724T072243Z
UID:6618-1753605000-1753639200@shizukahall.com
SUMMARY:第72回兵庫県吹奏楽コンクール淡路地区予選　兼　第47回淡路吹奏楽祭
DESCRIPTION:
URL:https://shizukahall.com/event/%e7%ac%ac72%e5%9b%9e%e5%85%b5%e5%ba%ab%e7%9c%8c%e5%90%b9%e5%a5%8f%e6%a5%bd%e3%82%b3%e3%83%b3%e3%82%af%e3%83%bc%e3%83%ab%e6%b7%a1%e8%b7%af%e5%9c%b0%e5%8c%ba%e4%ba%88%e9%81%b8%e3%80%80%e5%85%bc%e3%80%80
END:VEVENT
END:VCALENDAR