BEGIN:VCALENDAR
VERSION:2.0
PRODID:-//淡路市立しづかホール - ECPv5.8.0//NONSGML v1.0//EN
CALSCALE:GREGORIAN
METHOD:PUBLISH
X-WR-CALNAME:淡路市立しづかホール
X-ORIGINAL-URL:https://shizukahall.com
X-WR-CALDESC:淡路市立しづかホール のイベント
BEGIN:VTIMEZONE
TZID:Asia/Tokyo
BEGIN:STANDARD
TZOFFSETFROM:+0900
TZOFFSETTO:+0900
TZNAME:JST
DTSTART:20250101T000000
END:STANDARD
END:VTIMEZONE
BEGIN:VEVENT
DTSTART;TZID=Asia/Tokyo:20250920T090000
DTEND;TZID=Asia/Tokyo:20250920T170000
DTSTAMP:20260420T062718
CREATED:20251006T012945Z
LAST-MODIFIED:20251006T012945Z
UID:6737-1758358800-1758387600@shizukahall.com
SUMMARY:淡路市政20周年イベント
DESCRIPTION:
URL:https://shizukahall.com/event/%e6%b7%a1%e8%b7%af%e5%b8%82%e6%94%bf20%e5%91%a8%e5%b9%b4%e3%82%a4%e3%83%99%e3%83%b3%e3%83%88
END:VEVENT
END:VCALENDAR