BEGIN:VCALENDAR
VERSION:2.0
PRODID:-//淡路市立しづかホール - ECPv5.8.0//NONSGML v1.0//EN
CALSCALE:GREGORIAN
METHOD:PUBLISH
X-WR-CALNAME:淡路市立しづかホール
X-ORIGINAL-URL:https://shizukahall.com
X-WR-CALDESC:淡路市立しづかホール のイベント
BEGIN:VTIMEZONE
TZID:Asia/Tokyo
BEGIN:STANDARD
TZOFFSETFROM:+0900
TZOFFSETTO:+0900
TZNAME:JST
DTSTART:20250101T000000
END:STANDARD
END:VTIMEZONE
BEGIN:VEVENT
DTSTART;TZID=Asia/Tokyo:20250712T130000
DTEND;TZID=Asia/Tokyo:20250712T220000
DTSTAMP:20260421T214836
CREATED:20250724T062340Z
LAST-MODIFIED:20250724T062340Z
UID:6586-1752325200-1752357600@shizukahall.com
SUMMARY:予約あり
DESCRIPTION:
URL:https://shizukahall.com/event/%e4%ba%88%e7%b4%84%e3%81%82%e3%82%8a-375
END:VEVENT
END:VCALENDAR