BEGIN:VCALENDAR
VERSION:2.0
PRODID:-//淡路市立しづかホール - ECPv5.8.0//NONSGML v1.0//EN
CALSCALE:GREGORIAN
METHOD:PUBLISH
X-WR-CALNAME:淡路市立しづかホール
X-ORIGINAL-URL:https://shizukahall.com
X-WR-CALDESC:淡路市立しづかホール のイベント
BEGIN:VTIMEZONE
TZID:Asia/Tokyo
BEGIN:STANDARD
TZOFFSETFROM:+0900
TZOFFSETTO:+0900
TZNAME:JST
DTSTART:20250101T000000
END:STANDARD
END:VTIMEZONE
BEGIN:VEVENT
DTSTART;TZID=Asia/Tokyo:20250925T073000
DTEND;TZID=Asia/Tokyo:20250925T170000
DTSTAMP:20260420T134548
CREATED:20250210T021647Z
LAST-MODIFIED:20250210T021647Z
UID:6304-1758785400-1758819600@shizukahall.com
SUMMARY:まちぐるみ健診
DESCRIPTION:【お問合せ】淡路市健康増進課　0799-64-2541
URL:https://shizukahall.com/event/%e3%81%be%e3%81%a1%e3%81%90%e3%82%8b%e3%81%bf%e5%81%a5%e8%a8%ba-31
END:VEVENT
END:VCALENDAR